BEGIN:VCALENDAR
VERSION:2.0
PRODID:-//FAGS - ECPv6.15.20//NONSGML v1.0//EN
CALSCALE:GREGORIAN
METHOD:PUBLISH
X-WR-CALNAME:FAGS
X-ORIGINAL-URL:https://www.fags.ch
X-WR-CALDESC:Veranstaltungen für FAGS
REFRESH-INTERVAL;VALUE=DURATION:PT1H
X-Robots-Tag:noindex
X-PUBLISHED-TTL:PT1H
BEGIN:VTIMEZONE
TZID:Europe/Zurich
BEGIN:DAYLIGHT
TZOFFSETFROM:+0100
TZOFFSETTO:+0200
TZNAME:CEST
DTSTART:20240331T010000
END:DAYLIGHT
BEGIN:STANDARD
TZOFFSETFROM:+0200
TZOFFSETTO:+0100
TZNAME:CET
DTSTART:20241027T010000
END:STANDARD
BEGIN:DAYLIGHT
TZOFFSETFROM:+0100
TZOFFSETTO:+0200
TZNAME:CEST
DTSTART:20250330T010000
END:DAYLIGHT
BEGIN:STANDARD
TZOFFSETFROM:+0200
TZOFFSETTO:+0100
TZNAME:CET
DTSTART:20251026T010000
END:STANDARD
BEGIN:DAYLIGHT
TZOFFSETFROM:+0100
TZOFFSETTO:+0200
TZNAME:CEST
DTSTART:20260329T010000
END:DAYLIGHT
BEGIN:STANDARD
TZOFFSETFROM:+0200
TZOFFSETTO:+0100
TZNAME:CET
DTSTART:20261025T010000
END:STANDARD
END:VTIMEZONE
BEGIN:VEVENT
DTSTART;TZID=Europe/Zurich:20250917T140000
DTEND;TZID=Europe/Zurich:20250917T151500
DTSTAMP:20260425T180436
CREATED:20250910T072640Z
LAST-MODIFIED:20250910T072640Z
UID:8464-1758117600-1758122100@www.fags.ch
SUMMARY:FAGS Ausflug Führung im Heididorf
DESCRIPTION:FAGS im Heididorf\nKinder und Erwachsene sind am Mittwoch\, 17. September 2025 von 14-15:15 Uhr herzlich zu einer Führung im Heididorf Maienfeld eingeladen. Wir tauchen ein in die Zeit um 1880 und entdecken am Originalschauplatz der Heidi-Geschichte\, wie Heidi damals lebte. Anschliessend Möglichkeit für einen Kaffee im Restaurant Heididorf (Selbstzahler). \nTreffpunkt: vor dem Dorfladen im Heididorf (7 Min. Fussweg vom Heididorf-Parkplatz).\nKosten pro Person: kostenlos für FAGS-Mitglieder und Kinder\, CHF 10.– für Nichtmitglieder\nAnmeldung: www.fags.ch/anmeldung-anlaesse/
URL:https://www.fags.ch/veranstaltung/fags-ausflug-fuehrung-im-heididorf/
LOCATION:Heididorf\, Maienfeld
END:VEVENT
END:VCALENDAR