BEGIN:VCALENDAR
VERSION:2.0
PRODID:-//FAGS - ECPv6.15.20//NONSGML v1.0//EN
CALSCALE:GREGORIAN
METHOD:PUBLISH
X-ORIGINAL-URL:https://www.fags.ch
X-WR-CALDESC:Veranstaltungen für FAGS
REFRESH-INTERVAL;VALUE=DURATION:PT1H
X-Robots-Tag:noindex
X-PUBLISHED-TTL:PT1H
BEGIN:VTIMEZONE
TZID:Europe/Zurich
BEGIN:DAYLIGHT
TZOFFSETFROM:+0100
TZOFFSETTO:+0200
TZNAME:CEST
DTSTART:20240331T010000
END:DAYLIGHT
BEGIN:STANDARD
TZOFFSETFROM:+0200
TZOFFSETTO:+0100
TZNAME:CET
DTSTART:20241027T010000
END:STANDARD
BEGIN:DAYLIGHT
TZOFFSETFROM:+0100
TZOFFSETTO:+0200
TZNAME:CEST
DTSTART:20250330T010000
END:DAYLIGHT
BEGIN:STANDARD
TZOFFSETFROM:+0200
TZOFFSETTO:+0100
TZNAME:CET
DTSTART:20251026T010000
END:STANDARD
BEGIN:DAYLIGHT
TZOFFSETFROM:+0100
TZOFFSETTO:+0200
TZNAME:CEST
DTSTART:20260329T010000
END:DAYLIGHT
BEGIN:STANDARD
TZOFFSETFROM:+0200
TZOFFSETTO:+0100
TZNAME:CET
DTSTART:20261025T010000
END:STANDARD
END:VTIMEZONE
BEGIN:VEVENT
DTSTART;TZID=Europe/Zurich:20251020T183000
DTEND;TZID=Europe/Zurich:20251020T193000
DTSTAMP:20260425T175013
CREATED:20250927T092750Z
LAST-MODIFIED:20250927T113256Z
UID:8555-1760985000-1760988600@www.fags.ch
SUMMARY:Informationsanlass KISS
DESCRIPTION:
URL:https://www.fags.ch/veranstaltung/informationsanlass-kiss/
LOCATION:Restaurant Perron\, Tiefrietstrasse 18\, Sargans\, SG\, 7320\, Schweiz
CATEGORIES:KISS Informationsanlass 20.10.2025
END:VEVENT
END:VCALENDAR