BEGIN:VCALENDAR
VERSION:2.0
PRODID:-//FAGS - ECPv6.15.20//NONSGML v1.0//EN
CALSCALE:GREGORIAN
METHOD:PUBLISH
X-WR-CALNAME:FAGS
X-ORIGINAL-URL:https://www.fags.ch
X-WR-CALDESC:Veranstaltungen für FAGS
REFRESH-INTERVAL;VALUE=DURATION:PT1H
X-Robots-Tag:noindex
X-PUBLISHED-TTL:PT1H
BEGIN:VTIMEZONE
TZID:Europe/Zurich
BEGIN:DAYLIGHT
TZOFFSETFROM:+0100
TZOFFSETTO:+0200
TZNAME:CEST
DTSTART:20250330T010000
END:DAYLIGHT
BEGIN:STANDARD
TZOFFSETFROM:+0200
TZOFFSETTO:+0100
TZNAME:CET
DTSTART:20251026T010000
END:STANDARD
BEGIN:DAYLIGHT
TZOFFSETFROM:+0100
TZOFFSETTO:+0200
TZNAME:CEST
DTSTART:20260329T010000
END:DAYLIGHT
BEGIN:STANDARD
TZOFFSETFROM:+0200
TZOFFSETTO:+0100
TZNAME:CET
DTSTART:20261025T010000
END:STANDARD
BEGIN:DAYLIGHT
TZOFFSETFROM:+0100
TZOFFSETTO:+0200
TZNAME:CEST
DTSTART:20270328T010000
END:DAYLIGHT
BEGIN:STANDARD
TZOFFSETFROM:+0200
TZOFFSETTO:+0100
TZNAME:CET
DTSTART:20271031T010000
END:STANDARD
END:VTIMEZONE
BEGIN:VEVENT
DTSTART;TZID=Europe/Zurich:20260501T190000
DTEND;TZID=Europe/Zurich:20260501T210000
DTSTAMP:20260420T195942
CREATED:20260302T075425Z
LAST-MODIFIED:20260415T064453Z
UID:8975-1777662000-1777669200@www.fags.ch
SUMMARY:Hauptversammlung 2026
DESCRIPTION:Mitgliederversammlung dieses Jahr auf der SIGA Mels im Gastregionsrestaurant der Gemeinde Sargans\, mit anschliessendem Apéro. \nTüröffnung: 18:30 Uhr. \nAb 21:oo Uhr Warm-up Party auf der SIGA – kostenfrei für alle HV-Teilnehmenden.
URL:https://www.fags.ch/veranstaltung/mitgliederversammlung-2026/
LOCATION:SIGA Areal\, Im Riet 1\, Mels\, SG\, 8887
ORGANIZER;CN="FAGS":MAILTO:info@fags.ch
END:VEVENT
BEGIN:VEVENT
DTSTART;TZID=Europe/Zurich:20260505T140000
DTEND;TZID=Europe/Zurich:20260505T190000
DTSTAMP:20260420T195942
CREATED:20260415T063943Z
LAST-MODIFIED:20260415T063943Z
UID:8995-1777989600-1778007600@www.fags.ch
SUMMARY:FAGS am SIGA Ladies Day
DESCRIPTION:Dienstag\, 5. Mai 2026\, 14- 19 Uhr \nDer Verein FAGS als Patronatspartner des SIGA Ladies Day kann seinen Mitgliedern Tickets zu vergünstigten Konditionen anbieten. So kostet die Teilnahme mit FAGS-Rabatt CHF 75.- statt CHF 100.-. Im Preis inkl. ist der SIGA-Eintritt\, alle Referate und der köstliche SIGA Netzwerk Apéro. Anmeldung fürs vergünstigte Ladies Day Ticket möglich bis 21.4.2026 unter info@fags.ch. \nUnter dem Thema «Dein Tag für neue Perspektiven!» werden verschiedene Lebenswege vorgestellt. Ein informatives\, spannendes und inspirierendes Forum erwartet Sie. \nWeitere Informationen unter https://siga-messe.ch/programmpunkt/ladies-day/.
URL:https://www.fags.ch/veranstaltung/fags-am-siga-ladies-day/
LOCATION:SIGA Areal\, Im Riet 1\, Mels\, SG\, 8887
END:VEVENT
BEGIN:VEVENT
DTSTART;TZID=Europe/Zurich:20260505T140000
DTEND;TZID=Europe/Zurich:20260505T210000
DTSTAMP:20260420T195942
CREATED:20260415T071550Z
LAST-MODIFIED:20260415T071550Z
UID:9005-1777989600-1778014800@www.fags.ch
SUMMARY:FAGS an der SIGA
DESCRIPTION:FAGS und IDEM sind am Dienstag\, 5. Mai (parallel zum SIGA Ladies Day) und am Samstag\, 9. Mai 2026 von 14- 21 Uhr am Stand der TSW (Stand-Nr. 01.20). Wir freuen uns auf Ihren Besuch. Weitere Infos unter: https://siga-messe.ch/.
URL:https://www.fags.ch/veranstaltung/fags-an-der-siga/
LOCATION:SIGA-Messe\, Rheinstrasse 23\, Sargans\, 7320\, Schweiz
END:VEVENT
BEGIN:VEVENT
DTSTART;TZID=Europe/Zurich:20260509T140000
DTEND;TZID=Europe/Zurich:20260509T190000
DTSTAMP:20260420T195942
CREATED:20260415T071634Z
LAST-MODIFIED:20260415T071634Z
UID:9014-1778335200-1778353200@www.fags.ch
SUMMARY:FAGS an der SIGA
DESCRIPTION:FAGS und IDEM sind am Dienstag\, 5. Mai (parallel zum SIGA Ladies Day) und am Samstag\, 9. Mai 2026 von 14- 21 Uhr am Stand der TSW (Stand-Nr. 01.20). Wir freuen uns auf Ihren Besuch. Weitere Infos unter: https://siga-messe.ch/.
URL:https://www.fags.ch/veranstaltung/fags-an-der-siga-2/
LOCATION:SIGA-Messe\, Rheinstrasse 23\, Sargans\, 7320\, Schweiz
END:VEVENT
END:VCALENDAR